BEGIN:VCALENDAR
VERSION:2.0
PRODID:-//eventon.com NONSGML v1.0//EN
CALSCALE:GREGORIAN
METHOD:PUBLISH
BEGIN:VEVENT
UID:69ec9785d352e
DTSTAMP:20260425T102925Z
DTSTART:20160417T100000Z
DTEND:20160417T180000Z
LOCATION:
SUMMARY:DONNERIE D’OBJETS
DESCRIPTION:DONNERIE D’OBJETS ● 17 AVRIL 2016 • 10H - 18H Espace Flor
 enville Cette édition se donne pour objectif de créer des liens autour du
  partage entre citoyens. Donner une seconde vie à un objet encore jugé ut
 ile mais dont on n’a plus l’usage au quotidien pour en faire profiter q
 uelqu’un[..]\nhttps://chiny-tourisme.be/event-directory/donnerie-dobjets/
URL:https://chiny-tourisme.be/event-directory/donnerie-dobjets/
END:VEVENT
END:VCALENDAR