BEGIN:VCALENDAR
VERSION:2.0
PRODID:-//eventon.com NONSGML v1.0//EN
CALSCALE:GREGORIAN
METHOD:PUBLISH
BEGIN:VEVENT
UID:69e6f9e68fee8
DTSTAMP:20260421T041534Z
DTSTART:20160520T183000Z
DTEND:20160520T000000Z
LOCATION:
SUMMARY:FETE DES VOISINS
DESCRIPTION:FETE DES VOISINS La Fête des voisins\,  un moment de rencontre
  C'est un événement national célébré dans toute la Belgique. Nous vivo
 ns aujourd’hui une époque paradoxale. Avec l’émergence et sa présenc
 e quotidienne en nos foyers du multimédia\,  il est parfois plus facile de
  communiquer d’un continent à l’autre que de[..]\nhttps://chiny-touris
 me.be/event-directory/fete-des-voisins/
URL:https://chiny-tourisme.be/event-directory/fete-des-voisins/
END:VEVENT
END:VCALENDAR