BEGIN:VCALENDAR
VERSION:2.0
PRODID:-//eventon.com NONSGML v1.0//EN
CALSCALE:GREGORIAN
METHOD:PUBLISH
BEGIN:VEVENT
UID:69e6de4b7fc2b
DTSTAMP:20260421T021747Z
DTSTART:20151014T150000Z
DTEND:20151014T180000Z
LOCATION:
SUMMARY:Marché des producteurs locaux
DESCRIPTION:Marché des producteurs locaux Le Marché des producteurs locau
 x vous propose un assortiment de légumes de saison\,  pains\,  fromages\, 
  oeufs etc....que du bon pour se faire du bien! Le marché se déroule dans
  l'ancien pavillon de tourisme sur la place de Florenville Le 1 er mercredi
  du mois \,  les[..]\nhttps://chiny-tourisme.be/event-directory/marche-prod
 ucteurs-locaux/
URL:https://chiny-tourisme.be/event-directory/marche-producteurs-locaux/
END:VEVENT
END:VCALENDAR