BEGIN:VCALENDAR
VERSION:2.0
PRODID:-//eventon.com NONSGML v1.0//EN
CALSCALE:GREGORIAN
METHOD:PUBLISH
BEGIN:VEVENT
UID:69e6c792ccdf2
DTSTAMP:20260421T004050Z
DTSTART:20151121T090000Z
DTEND:20151121T230000Z
LOCATION:
SUMMARY:Veillée contée
DESCRIPTION:Formation au conte et veillée contée Les Conteurs éveillés 
 vous proposent une formation à l'expression du corps\,  dans le conte\,  a
 vec Morgane Prohaczka. Cette soirée sera suivie d'une soirée contée avec
  scène ouverte à la bibliothèque de Jamoigne dès 20h00 Cette formation 
 a lieu aux anciennes écoles de Chiny de[..]\nhttps://chiny-tourisme.be/eve
 nt-directory/veillee-contee-2/
URL:https://chiny-tourisme.be/event-directory/veillee-contee-2/
END:VEVENT
END:VCALENDAR