BEGIN:VCALENDAR
VERSION:2.0
PRODID:-//eventon.com NONSGML v1.0//EN
CALSCALE:GREGORIAN
METHOD:PUBLISH
BEGIN:VEVENT
UID:69e68cdb2936c
DTSTAMP:20260420T203019Z
DTSTART:20151212T200000Z
DTEND:20151219T230000Z
LOCATION:
SUMMARY:Concert à la Taverne du Randonneur
DESCRIPTION:Concert à la Taverne du Randonneur Brigitte et Georges vous pr
 oposent un concert " Jazz Latino" avec Fun Jazz Trio\nhttps://chiny-tourism
 e.be/event-directory/concert-a-la-taverne-du-randonneur-2/
URL:https://chiny-tourisme.be/event-directory/concert-a-la-taverne-du-randonneur-2/
END:VEVENT
END:VCALENDAR