BEGIN:VCALENDAR
VERSION:2.0
PRODID:-//eventon.com NONSGML v1.0//EN
CALSCALE:GREGORIAN
METHOD:PUBLISH
BEGIN:VEVENT
UID:69e674f56b151
DTSTAMP:20260420T184821Z
DTSTART:20151219T201500Z
DTEND:20151219T220000Z
LOCATION:
SUMMARY:Les Copains d'abord - Concert
DESCRIPTION:Les Copains d'abord - Concert Les Copains d'abord chantent Noë
 l conjointement avec la chorale de la Tour Griffon de Neufchâteau. Le conc
 ert se déroule dans l'église de Florenville à 20h15 ce 19 décembre Info
 s : Tél 0495 67 34 36 P.A.F. : 7€/pers ( 4€/enfant)\nhttps://chiny-tou
 risme.be/event-directory/les-copains-dabord-concert/
URL:https://chiny-tourisme.be/event-directory/les-copains-dabord-concert/
END:VEVENT
END:VCALENDAR