BEGIN:VCALENDAR
VERSION:2.0
PRODID:-//eventon.com NONSGML v1.0//EN
CALSCALE:GREGORIAN
METHOD:PUBLISH
BEGIN:VEVENT
UID:69e62f64e678c
DTSTAMP:20260420T135132Z
DTSTART:20160106T200000Z
DTEND:20160106T223000Z
LOCATION:
SUMMARY:Ciné-Club : La Merditude des choses
DESCRIPTION:Ciné-Club : La Merditude des choses Le Centre Culturel du Beau
  Canton Chiny-Florenville vous propose le cycle du "Roman à l'écran" en p
 artenariat avec la Bibliothèque de Florenville. Ce mercredi 6 janvier à 2
 0h00 à l'Espace rencontre à Florenville. Participation libre Réalisé pa
 r Félix Van Groeningen. Genre : comédie dramatique.[..]\nhttps://chiny-to
 urisme.be/event-directory/cine-club-la-merditude-des-choses/
URL:https://chiny-tourisme.be/event-directory/cine-club-la-merditude-des-choses/
END:VEVENT
END:VCALENDAR