BEGIN:VCALENDAR
VERSION:2.0
PRODID:-//eventon.com NONSGML v1.0//EN
CALSCALE:GREGORIAN
METHOD:PUBLISH
BEGIN:VEVENT
UID:69e5fef2d4060
DTSTAMP:20260420T102450Z
DTSTART:20160122T203000Z
DTEND:20160122T223000Z
LOCATION:
SUMMARY:Le Pont
DESCRIPTION:Le Pont Le 22 janvier à 20h30 aux Anciennes écoles de Chiny( 
 CAT) le Centre Culturel du Beau Canton Chiny-Florenville vous propose cette
  comédie de Laurent Van Wetter avec Jean-François Brever et Thomas Demare
 z Infos et réservation : 32(0)61 31 10 11 P.A.F.: 10€/6€(abonnement)/a
 rt.27\nhttps://chiny-tourisme.be/event-directory/le-pont/
URL:https://chiny-tourisme.be/event-directory/le-pont/
END:VEVENT
END:VCALENDAR