BEGIN:VCALENDAR
VERSION:2.0
PRODID:-//eventon.com NONSGML v1.0//EN
CALSCALE:GREGORIAN
METHOD:PUBLISH
BEGIN:VEVENT
UID:69ec2303144d7
DTSTAMP:20260425T021219Z
DTSTART:20190721T060000Z
DTEND:20190721T180000Z
LOCATION:
SUMMARY:Brocante à Muno
DESCRIPTION:Brocante à Muno franco-belge. Venez chiner dans les rues dès 
 6h... Infos :+32 61 31 50 61\nhttps://chiny-tourisme.be/event-directory/bro
 cante-a-muno-3/
URL:https://chiny-tourisme.be/event-directory/brocante-a-muno-3/
END:VEVENT
END:VCALENDAR