BEGIN:VCALENDAR
VERSION:2.0
PRODID:-//eventon.com NONSGML v1.0//EN
CALSCALE:GREGORIAN
METHOD:PUBLISH
BEGIN:VEVENT
UID:69ec0ae21262f
DTSTAMP:20260425T002922Z
DTSTART:20190727T060000Z
DTEND:20190727T180000Z
LOCATION:
SUMMARY:Brocante à Straimont
DESCRIPTION:Brocante à Straimont Venez chiner dans les rues de 6h à 18h I
 nfos et inscriptions : +32 61 27 87 63 ou +32 499 61 77 68\nhttps://chiny-t
 ourisme.be/event-directory/brocante-a-straimont-4/
URL:https://chiny-tourisme.be/event-directory/brocante-a-straimont-4/
END:VEVENT
END:VCALENDAR