BEGIN:VCALENDAR
VERSION:2.0
PRODID:-//eventon.com NONSGML v1.0//EN
CALSCALE:GREGORIAN
METHOD:PUBLISH
BEGIN:VEVENT
UID:69ebf289771f7
DTSTAMP:20260424T224529Z
DTSTART:20220826T203000Z
DTEND:20220828T200000Z
LOCATION:
SUMMARY:Dikèse à Chiny
DESCRIPTION:Dikèse à Chiny Le Comité des Fêtes de Chiny vous propose la
  fête au village Vendredi Soirée d'ouverture avec les concerts gratuits: 
 - 20h30 :concert gratuit : Drink Too Much\,  WightSpirit Bar -  petite res
 tauration Samedi - 8h00 : Rallye des 3 Truites ( voitures ancêtres)- Rése
 rvation obligatoire : +352[..]\nhttps://chiny-tourisme.be/event-directory/d
 ikese/
URL:https://chiny-tourisme.be/event-directory/dikese/
END:VEVENT
END:VCALENDAR