BEGIN:VCALENDAR
VERSION:2.0
PRODID:-//eventon.com NONSGML v1.0//EN
CALSCALE:GREGORIAN
METHOD:PUBLISH
BEGIN:VEVENT
UID:69e755851596b
DTSTAMP:20260421T104629Z
DTSTART:20240725T170000Z
DTEND:20240725T190000Z
LOCATION:
SUMMARY:Chèvres\,  marche\,  bière(s) et rire
DESCRIPTION:Chèvres\,  marche\,  bière(s) et rire Le Royal Syndicat d'ini
 tiative de Chiny vous propose une balade guidée fin de journée à la déc
 ouverte de nos producteurs et de nos paysages gaumais. Nous commencerons pa
 r la visite de la ferme de l'Espérance et une dégustation des fromages de
  chèvre. Nous ferons ensuite[..]\nhttps://chiny-tourisme.be/nl/event-direc
 tory/chevre-marche-biere-et-rire/
URL:https://chiny-tourisme.be/nl/event-directory/chevre-marche-biere-et-rire/
END:VEVENT
END:VCALENDAR