BEGIN:VCALENDAR
VERSION:2.0
PRODID:-//eventon.com NONSGML v1.0//EN
CALSCALE:GREGORIAN
METHOD:PUBLISH
BEGIN:VEVENT
UID:69e6db721c0a6
DTSTAMP:20260421T020538Z
DTSTART:20151204T200000Z
DTEND:20151204T000000Z
LOCATION:
SUMMARY:Concert à la Taverne du Randonneur
DESCRIPTION:Concert à la Taverne du Randonneur Dès 20h00 Brigitte et Geor
 ges vous proposent des chansons françaises avec Gégé le chanteur-siffleu
 r. Comme d'habitude vous pourrez profiter de menus variés. N'oubliez pas d
 e réserver : Tél : 061 27 97 42\nhttps://chiny-tourisme.be/nl/event-direc
 tory/concert-a-la-taverne-du-randonneur/
URL:https://chiny-tourisme.be/nl/event-directory/concert-a-la-taverne-du-randonneur/
END:VEVENT
END:VCALENDAR