BEGIN:VCALENDAR
VERSION:2.0
PRODID:-//eventon.com NONSGML v1.0//EN
CALSCALE:GREGORIAN
METHOD:PUBLISH
BEGIN:VEVENT
UID:69e6732c496dc
DTSTAMP:20260420T184044Z
DTSTART:20151227T093000Z
DTEND:20151227T113000Z
LOCATION:
SUMMARY:Course d'Orientation
DESCRIPTION:Course d'orientation à Chiny Le 27 décembre 2015 à Chiny Cou
 rse d'orientation au départ du Centre Adeps Rue du Liry 6810 Chiny entre 9
 h30 et 11h30. Carte IOF fournie au départ ( inclus dans les frais d'inscri
 ption) La Fédération des sports d'Orientation (FRSO) propose 4 parcours d
 e course d'orientation de[..]\nhttps://chiny-tourisme.be/nl/event-directory
 /course-dorientation/
URL:https://chiny-tourisme.be/nl/event-directory/course-dorientation/
END:VEVENT
END:VCALENDAR