BEGIN:VCALENDAR
VERSION:2.0
PRODID:-//eventon.com NONSGML v1.0//EN
CALSCALE:GREGORIAN
METHOD:PUBLISH
BEGIN:VEVENT
UID:69e65ac20f5a3
DTSTAMP:20260420T165634Z
DTSTART:20160123T100000Z
DTEND:20160123T150000Z
LOCATION:
SUMMARY:Balade de la Forme : 6 ème édition
DESCRIPTION:Balade de la Forme : 6 ème édition Gezondheid wandeling Ce 23
  janvier à 10h00 venez vous dégourdir les jambes lors d'une balade guidé
 e conviviale de +/- 13 km( en fonction des conditions climatiques). Zaterda
 g 23 januari  : om samen \,  na de feesten\,  even de benen te streken Le[
 ..]\nhttps://chiny-tourisme.be/nl/event-directory/6eme-edition-de-la-balade
 -de-la-forme/
URL:https://chiny-tourisme.be/nl/event-directory/6eme-edition-de-la-balade-de-la-forme/
END:VEVENT
END:VCALENDAR