BEGIN:VCALENDAR
VERSION:2.0
PRODID:-//eventon.com NONSGML v1.0//EN
CALSCALE:GREGORIAN
METHOD:PUBLISH
BEGIN:VEVENT
UID:69e629c25b4b4
DTSTAMP:20260420T132730Z
DTSTART:20160108T100000Z
DTEND:20160108T223000Z
LOCATION:
SUMMARY:Rendez-vous conte
DESCRIPTION:Rendez-vous conte JournÃ©e professionnelle organisÃ©e par l'asb
 l Chiny CitÃ© des Contes; Vendredi 8 janvier Ã  10h00 . Cette journÃ©e enti
 Ã¨rement dÃ©diÃ©e Ã  l'art de l'oralitÃ© et accessible seulement aux profes
 sionnels en journÃ©e sera clÃ´turÃ©e Ã  20h30 par un spectacle accessible Ã
   tous publics. Pour les informations et rÃ©servations\,  veuillez contacte
 r[..]\nhttps://chiny-tourisme.be/nl/event-directory/rendez-vous-conte/
URL:https://chiny-tourisme.be/nl/event-directory/rendez-vous-conte/
END:VEVENT
END:VCALENDAR