BEGIN:VCALENDAR
VERSION:2.0
PRODID:-//eventon.com NONSGML v1.0//EN
CALSCALE:GREGORIAN
METHOD:PUBLISH
BEGIN:VEVENT
UID:69ebac359c1b5
DTSTAMP:20260424T174525Z
DTSTART:20180805T103000Z
DTEND:20180805T140000Z
LOCATION:
SUMMARY:Balade en attelage sur le Parcours Servais
DESCRIPTION:Balade en attelage sur le Parcours Servais Une nouvelle attract
 ion touristique sur les communes de Chiny et Â Florenville cet Ã©tÃ©Â : Â«Â
  Balades en attelage le long du Parcours ServaisÂ Â». Le parcours va de Flo
 renville Ã  Jamoigne et est balisÃ© de panneaux Â didactiques. Un Ã©cran in
 stallÃ© dans le char Ã  banc permet[..]\nhttps://chiny-tourisme.be/nl/event
 -directory/balade-en-attelage-sur-le-parcours-servais-3/
URL:https://chiny-tourisme.be/nl/event-directory/balade-en-attelage-sur-le-parcours-servais-3/
END:VEVENT
END:VCALENDAR