BEGIN:VCALENDAR
VERSION:2.0
PRODID:-//eventon.com NONSGML v1.0//EN
CALSCALE:GREGORIAN
METHOD:PUBLISH
BEGIN:VEVENT
UID:69ebc1a4671d3
DTSTAMP:20260424T191652Z
DTSTART:20180818T160000Z
DTEND:20180818T220000Z
LOCATION:
SUMMARY:Brocante à Mogues
DESCRIPTION:Brocante à Mogues Venez déambuler dans les rues de ce charman
 t village français dès 16h et ce jusque 22h. &nbsp;\nhttps://chiny-touris
 me.be/nl/event-directory/brocante-a-mogues-2/
URL:https://chiny-tourisme.be/nl/event-directory/brocante-a-mogues-2/
END:VEVENT
END:VCALENDAR