BEGIN:VCALENDAR
VERSION:2.0
PRODID:-//eventon.com NONSGML v1.0//EN
CALSCALE:GREGORIAN
METHOD:PUBLISH
BEGIN:VEVENT
UID:69ebf23aead01
DTSTAMP:20260424T224410Z
DTSTART:20180902T090000Z
DTEND:20180902T160000Z
LOCATION:
SUMMARY:15 Ã¨me Gaume Gourmande :Orval
DESCRIPTION:15 Ã¨me Gaume Gourmande : Orval Le Kiwanis de Florenville Lorra
 ine Semois organise cette activitÃ© au profit d'oeuvres sociales. A partir 
 de 9h\,  superbes promenades de 5\, 8 et 12 km Ã  parcourir Ã  son aise( dÃ
 ©part libre) avec halte surprise. Au terme du circuit\,  repas gatsronomiqu
 e servi Ã  partir de[..]\nhttps://chiny-tourisme.be/nl/event-directory/15-e
 me-gaume-gourmande-orval/
URL:https://chiny-tourisme.be/nl/event-directory/15-eme-gaume-gourmande-orval/
END:VEVENT
END:VCALENDAR