BEGIN:VCALENDAR
VERSION:2.0
PRODID:-//eventon.com NONSGML v1.0//EN
CALSCALE:GREGORIAN
METHOD:PUBLISH
BEGIN:VEVENT
UID:69ec094c94689
DTSTAMP:20260425T002236Z
DTSTART:20180811T090000Z
DTEND:20180811T120000Z
LOCATION:
SUMMARY:Gaume Jazz Festival Off
DESCRIPTION:Gaume Jazz Festival Off Dans le cadre du Gaume Jazz Festival ve
 nez profiter d'un bol d'air nature entre les bons airs de Jazz. Une balade 
 accompagnée dans les bois d'Ardenne et de Gaume. Antonin vous proposera un
  parcours de 5 à 6 km en boucle avant le concert OFF de[..]\nhttps://chiny
 -tourisme.be/nl/event-directory/gaume-jazz-festival-off/
URL:https://chiny-tourisme.be/nl/event-directory/gaume-jazz-festival-off/
END:VEVENT
END:VCALENDAR