BEGIN:VCALENDAR
VERSION:2.0
PRODID:-//eventon.com NONSGML v1.0//EN
CALSCALE:GREGORIAN
METHOD:PUBLISH
BEGIN:VEVENT
UID:69ec225d9db6d
DTSTAMP:20260425T020933Z
DTSTART:20180922T100000Z
DTEND:20180923T170000Z
LOCATION:
SUMMARY:Formation au massage relaxant aux huiles essentielles
DESCRIPTION:Formation au massage relaxant aux huiles essentielles Le massag
 e permet d'aller à la rencontre de soi-même et de l'autre. Il harmonise l
 e corps et l'esprit en agissant sur les plans physique\,  émotionnel\,  ps
 ychique et énergétique. Il dénoue les tensions\,  soulage les douleurs\,
   réconforte et détend en profondeur. Lors de ce[..]\nhttps://chiny-touri
 sme.be/nl/event-directory/formation-au-massage-relaxant-aux-huiles-essentie
 lles/
URL:https://chiny-tourisme.be/nl/event-directory/formation-au-massage-relaxant-aux-huiles-essentielles/
END:VEVENT
END:VCALENDAR